BEGIN:VCALENDAR
VERSION:2.0
PRODID:-//Maine Roller Derby - ECPv6.15.16.1//NONSGML v1.0//EN
CALSCALE:GREGORIAN
METHOD:PUBLISH
X-WR-CALNAME:Maine Roller Derby
X-ORIGINAL-URL:https://www.mainerollerderby.com
X-WR-CALDESC:Events for Maine Roller Derby
REFRESH-INTERVAL;VALUE=DURATION:PT1H
X-Robots-Tag:noindex
X-PUBLISHED-TTL:PT1H
BEGIN:VTIMEZONE
TZID:America/New_York
BEGIN:DAYLIGHT
TZOFFSETFROM:-0500
TZOFFSETTO:-0400
TZNAME:EDT
DTSTART:20250309T070000
END:DAYLIGHT
BEGIN:STANDARD
TZOFFSETFROM:-0400
TZOFFSETTO:-0500
TZNAME:EST
DTSTART:20251102T060000
END:STANDARD
BEGIN:DAYLIGHT
TZOFFSETFROM:-0500
TZOFFSETTO:-0400
TZNAME:EDT
DTSTART:20260308T070000
END:DAYLIGHT
BEGIN:STANDARD
TZOFFSETFROM:-0400
TZOFFSETTO:-0500
TZNAME:EST
DTSTART:20261101T060000
END:STANDARD
BEGIN:DAYLIGHT
TZOFFSETFROM:-0500
TZOFFSETTO:-0400
TZNAME:EDT
DTSTART:20270314T070000
END:DAYLIGHT
BEGIN:STANDARD
TZOFFSETFROM:-0400
TZOFFSETTO:-0500
TZNAME:EST
DTSTART:20271107T060000
END:STANDARD
END:VTIMEZONE
BEGIN:VEVENT
DTSTART;TZID=America/New_York:20260214T170000
DTEND;TZID=America/New_York:20260214T193000
DTSTAMP:20260423T233029
CREATED:20250707T200744Z
LAST-MODIFIED:20260126T210727Z
UID:10769-1771088400-1771097400@www.mainerollerderby.com
SUMMARY:2026 Share the Love
DESCRIPTION:Online ticket sales end at 6:00am on the day of the event. Tickets will also be available at the door day-of if we have not reached capacity.
URL:https://www.mainerollerderby.com/event/2026-share-the-love/
LOCATION:Happy Wheels Skate Center\, 3 Chabot Street\, Westbrook\, ME\, 04092\, United States
CATEGORIES:Home Teams Season
ATTACH;FMTTYPE=image/png:https://www.mainerollerderby.com/wp-content/uploads/2026/01/MRD_WebSlider_0226.png
ORGANIZER;CN="Maine Roller Derby":MAILTO:pr@mainerollerderby.com
END:VEVENT
END:VCALENDAR