BEGIN:VCALENDAR
VERSION:2.0
PRODID:-//Maine Roller Derby - ECPv6.15.16.1//NONSGML v1.0//EN
CALSCALE:GREGORIAN
METHOD:PUBLISH
X-WR-CALNAME:Maine Roller Derby
X-ORIGINAL-URL:https://www.mainerollerderby.com
X-WR-CALDESC:Events for Maine Roller Derby
REFRESH-INTERVAL;VALUE=DURATION:PT1H
X-Robots-Tag:noindex
X-PUBLISHED-TTL:PT1H
BEGIN:VTIMEZONE
TZID:America/New_York
BEGIN:DAYLIGHT
TZOFFSETFROM:-0500
TZOFFSETTO:-0400
TZNAME:EDT
DTSTART:20250309T070000
END:DAYLIGHT
BEGIN:STANDARD
TZOFFSETFROM:-0400
TZOFFSETTO:-0500
TZNAME:EST
DTSTART:20251102T060000
END:STANDARD
BEGIN:DAYLIGHT
TZOFFSETFROM:-0500
TZOFFSETTO:-0400
TZNAME:EDT
DTSTART:20260308T070000
END:DAYLIGHT
BEGIN:STANDARD
TZOFFSETFROM:-0400
TZOFFSETTO:-0500
TZNAME:EST
DTSTART:20261101T060000
END:STANDARD
BEGIN:DAYLIGHT
TZOFFSETFROM:-0500
TZOFFSETTO:-0400
TZNAME:EDT
DTSTART:20270314T070000
END:DAYLIGHT
BEGIN:STANDARD
TZOFFSETFROM:-0400
TZOFFSETTO:-0500
TZNAME:EST
DTSTART:20271107T060000
END:STANDARD
END:VTIMEZONE
BEGIN:VEVENT
DTSTART;VALUE=DATE:20260613
DTEND;VALUE=DATE:20260615
DTSTAMP:20260423T130744
CREATED:20260116T135649Z
LAST-MODIFIED:20260331T153401Z
UID:11491-1781308800-1781481599@www.mainerollerderby.com
SUMMARY:Skatecationland 2026
DESCRIPTION:Skatecationland 2026\nDerby fans can expect a weekend packed with roller derby action. Five games will take place each day.\nWhen & Where\nJune 13-14\, 2026 at Happy Wheels\, Portland\, ME \nTickets\n\nTwo Day Pass: $53.00\nOne Day Pass: $31.80\nLate Entry Pass (available at the door for the last game of the day only): $12.75\nKids 12 and under: FREE \nOnline ticket sales end at 6:00am on the day of the event. Tickets will also be available at the door day-of if we have not reached capacity. No refunds or exchanges. Ticket price includes service fees. \n\nSchedule\n\n\n\n\nDay \n\n\nGame \n\n\nTime \n\n\nTeam \n\n\nTeam \n\n\n\n\nSaturday \n\n\n1 \n\n\n10:00 AM \n\n\nHARD Nuclear Knockouts \n\n\nNorth Star Supernovas \n\n\n\n\n2 \n\n\n12:30 PM \n\n\nMaine Old Port Brigade \n\n\nBay State Brawlers \n\n\n\n\n3 \n\n\n2:30 PM \n\n\nTwin State Vixens \n\n\nDirty Jersey All Stars \n\n\n\n\n4 \n\n\n4:30 PM \n\n\nAroostook Biohazards \n\n\nBay State Brawlers \n\n\n\n\n5 \n—– \n\n\n7:00 PM \n———– \n\n\nMaine Port Authorities \n—————————— \n\n\nDirty Jersey All Stars \n————————– \n\n\n\n\nSunday \n\n\n6 \n\n\n9:00 AM \n\n\nMaine Old Port Brigade \n\n\nAroostook Biohazards \n\n\n\n\n7 \n\n\n11:30 AM \n\n\nTwin State Vixens \n\n\nNorth Star Supernovas \n\n\n\n\n8 \n\n\n1:30 PM \n\n\nHARD Nuclear Knockouts \n\n\nDirty Jersey All Stars \n\n\n\n\n9 \n\n\n3:30 PM \n\n\nMaine Port Authorities \n\n\nNorth Star Supernovas \n\n\n\n\n10 \n\n\n5:30 PM \n\n\nHARD Nuclear Knockouts \n\n\nTwin State Vixens \n\n\n\n\nSchedule is subject to change. \nWho\n\nPort Authorities (Maine)\nOld Port Brigade (Maine)\nNorth Star Roller Derby Supernovas (Minnesota)\nHarrisburg Area Roller Derby Nuclear Knockouts (Pennsylvania)\nTwin State Derby Vixens (Vermont)\nDirty Jersey Roller Derby All Stars (New Jersey)\nBay State Brawlers (Massachusetts)\nAroostook Roller Derby Biohazards (Maine)
URL:https://www.mainerollerderby.com/event/skatecationland-2026/
LOCATION:Happy Wheels Skate Center\, 3 Chabot Street\, Westbrook\, ME\, 04092\, United States
CATEGORIES:Skatecationland
ATTACH;FMTTYPE=image/png:https://www.mainerollerderby.com/wp-content/uploads/2025/02/Skatecationland_Logo_Transparent.png
ORGANIZER;CN="Maine Roller Derby":MAILTO:pr@mainerollerderby.com
END:VEVENT
END:VCALENDAR